BEGIN:VCALENDAR
VERSION:2.0
PRODID:-//Biblioteka MBP Zd. Wola - ECPv6.15.20//NONSGML v1.0//EN
CALSCALE:GREGORIAN
METHOD:PUBLISH
X-WR-CALNAME:Biblioteka MBP Zd. Wola
X-ORIGINAL-URL:https://bibliotekazdwola.pl
X-WR-CALDESC:Wydarzenia dla Biblioteka MBP Zd. Wola
REFRESH-INTERVAL;VALUE=DURATION:PT1H
X-Robots-Tag:noindex
X-PUBLISHED-TTL:PT1H
BEGIN:VTIMEZONE
TZID:Europe/Warsaw
BEGIN:DAYLIGHT
TZOFFSETFROM:+0100
TZOFFSETTO:+0200
TZNAME:CEST
DTSTART:20250330T010000
END:DAYLIGHT
BEGIN:STANDARD
TZOFFSETFROM:+0200
TZOFFSETTO:+0100
TZNAME:CET
DTSTART:20251026T010000
END:STANDARD
BEGIN:DAYLIGHT
TZOFFSETFROM:+0100
TZOFFSETTO:+0200
TZNAME:CEST
DTSTART:20260329T010000
END:DAYLIGHT
BEGIN:STANDARD
TZOFFSETFROM:+0200
TZOFFSETTO:+0100
TZNAME:CET
DTSTART:20261025T010000
END:STANDARD
BEGIN:DAYLIGHT
TZOFFSETFROM:+0100
TZOFFSETTO:+0200
TZNAME:CEST
DTSTART:20270328T010000
END:DAYLIGHT
BEGIN:STANDARD
TZOFFSETFROM:+0200
TZOFFSETTO:+0100
TZNAME:CET
DTSTART:20271031T010000
END:STANDARD
END:VTIMEZONE
BEGIN:VEVENT
DTSTART;TZID=Europe/Warsaw:20260326T100000
DTEND;TZID=Europe/Warsaw:20260430T180000
DTSTAMP:20260419T152721
CREATED:20260402T100618Z
LAST-MODIFIED:20260402T101256Z
UID:19879-1774519200-1777572000@bibliotekazdwola.pl
SUMMARY:"ARTYSTYCZNE POSZUKIWANIA"- wystawa prac plastycznych Anny Gudajczyk
DESCRIPTION:Miejska Biblioteka Publiczna im. Jerzego Szaniawskiego w Zduńskiej Woli zaprasza na wystawę prac plastycznych Anny Gudajczyk pt. „ARTYSTYCZNE POSZUKIWANIA”.\nAutorka prac jest uczennicą klasy III Państwowego Liceum Sztuk Plastycznych im. Katarzyny Kobro w Zduńskiej Woli.\nNa wystawie zaprezentowane zostały prace z zakresu rysunku i malarstwa (nauczyciel prowadzący: Angelika Brzostowska-Pociecha)\, fotografii (nauczyciel prowadzący: Witold Rajczak)\, projektowania graficznego (nauczyciel prowadzący: Marcin Grabia).\nEkspozycja trwać będzie od 26 marca do 30 kwietnia 2026 r.
URL:https://bibliotekazdwola.pl/wydarzenie/artystyczne-poszukiwania-wystawa-prac-plastycznych-anny-gudajczyk/
ATTACH;FMTTYPE=image/jpeg:https://bibliotekazdwola.pl/wp-content/uploads/2026/03/plakat-wystawa-MBP-Ania-Gudajczyk_m-scaled.jpg
END:VEVENT
BEGIN:VEVENT
DTSTART;TZID=Europe/Warsaw:20260422T180000
DTEND;TZID=Europe/Warsaw:20260422T193000
DTSTAMP:20260419T152721
CREATED:20260409T105619Z
LAST-MODIFIED:20260409T112427Z
UID:19900-1776880800-1776886200@bibliotekazdwola.pl
SUMMARY:PRZEMYSŁAW PIOTROWSKI - spotkanie autorskie
DESCRIPTION:Lubicie mocne kryminały i spotkania z autorami\, którzy nie boją się trudnych tematów?\nJuż 22 kwietnia o godz. 18:00 zapraszamy do Czytelni Miejskiej Biblioteki Publicznej im. Jerzego Szaniawskiego w Zduńskiej Woli na spotkanie z Przemysławem Piotrowskim – autorem bestsellerowych thrillerów\, znanym m.in. z serii o Igorze Brudnym.\nBędzie mrocznie\, ciekawie i bez cenzury – porozmawiamy o kulisach pisania\, inspiracjach i historiach\, które nie dają spokoju. No i oczywiście będzie okazja do zdobycia autografu. \nSpotkanie poprowadzi Anna Nowicka.\nWstęp wolny!
URL:https://bibliotekazdwola.pl/wydarzenie/przemyslaw-piotrowski-spotkanie-autorskie/
LOCATION:MBP Zd-Wola\, Łaska 12\, Zduńska Wola
CATEGORIES:Spotkanie
ATTACH;FMTTYPE=image/jpeg:https://bibliotekazdwola.pl/wp-content/uploads/2026/04/PRZEMYSLAW-PIOTROWSKI-scaled.jpg
END:VEVENT
BEGIN:VEVENT
DTSTART;TZID=Europe/Warsaw:20260424T170000
DTEND;TZID=Europe/Warsaw:20260424T180000
DTSTAMP:20260419T152721
CREATED:20260409T090232Z
LAST-MODIFIED:20260409T090549Z
UID:19896-1777050000-1777053600@bibliotekazdwola.pl
SUMMARY:Bibliogranie - Koncert Musicalowy
DESCRIPTION:Zapraszamy na kolejną odsłonę „Bibliogrania” – wyjątkowy koncert musicalowy –  w wykonaniu klasy śpiewu Pauliny Gocałek Państwowej Szkoły Muzycznej I i II stopnia w Zduńskiej Woli. \n24 kwietnia 2026 r. o godz. 17.00\, sala kameralna Miejskiej Biblioteki Publicznej\, II piętro. \nWstęp wolny
URL:https://bibliotekazdwola.pl/wydarzenie/bibliogranie-koncert-musicalowy/
LOCATION:MBP Zd-Wola\, Łaska 12\, Zduńska Wola
CATEGORIES:Koncert
ATTACH;FMTTYPE=image/jpeg:https://bibliotekazdwola.pl/wp-content/uploads/2026/04/Bibliogranie-24-kwietnia.jpg
END:VEVENT
END:VCALENDAR